BEGIN:VCALENDAR
VERSION:2.0
PRODID:-//Aspirion - ECPv6.15.17.1//NONSGML v1.0//EN
CALSCALE:GREGORIAN
METHOD:PUBLISH
X-WR-CALNAME:Aspirion
X-ORIGINAL-URL:https://www.aspirion.com
X-WR-CALDESC:Events for Aspirion
REFRESH-INTERVAL;VALUE=DURATION:PT1H
X-Robots-Tag:noindex
X-PUBLISHED-TTL:PT1H
BEGIN:VTIMEZONE
TZID:America/New_York
BEGIN:DAYLIGHT
TZOFFSETFROM:-0500
TZOFFSETTO:-0400
TZNAME:EDT
DTSTART:20240310T070000
END:DAYLIGHT
BEGIN:STANDARD
TZOFFSETFROM:-0400
TZOFFSETTO:-0500
TZNAME:EST
DTSTART:20241103T060000
END:STANDARD
BEGIN:DAYLIGHT
TZOFFSETFROM:-0500
TZOFFSETTO:-0400
TZNAME:EDT
DTSTART:20250309T070000
END:DAYLIGHT
BEGIN:STANDARD
TZOFFSETFROM:-0400
TZOFFSETTO:-0500
TZNAME:EST
DTSTART:20251102T060000
END:STANDARD
BEGIN:DAYLIGHT
TZOFFSETFROM:-0500
TZOFFSETTO:-0400
TZNAME:EDT
DTSTART:20260308T070000
END:DAYLIGHT
BEGIN:STANDARD
TZOFFSETFROM:-0400
TZOFFSETTO:-0500
TZNAME:EST
DTSTART:20261101T060000
END:STANDARD
END:VTIMEZONE
BEGIN:VEVENT
DTSTART;VALUE=DATE:20250520
DTEND;VALUE=DATE:20250521
DTSTAMP:20260419T115832
CREATED:20250203T171335Z
LAST-MODIFIED:20250203T171335Z
UID:10168-1747699200-1747785599@www.aspirion.com
SUMMARY:HFMA MI Great Lakes Spring Fling (Grand Rapids)
DESCRIPTION:
URL:https://www.aspirion.com/event/hfma-mi-great-lakes-spring-fling-grand-rapids/
LOCATION:NV
ATTACH;FMTTYPE=image/jpeg:https://www.aspirion.com/wp-content/uploads/2025/02/great-lakes-from-space-16x9-1.jpg
END:VEVENT
BEGIN:VEVENT
DTSTART;VALUE=DATE:20250518
DTEND;VALUE=DATE:20250522
DTSTAMP:20260419T115832
CREATED:20250203T171051Z
LAST-MODIFIED:20250203T171051Z
UID:10165-1747526400-1747871999@www.aspirion.com
SUMMARY:HFMA GA 2025 Spring Institute
DESCRIPTION:
URL:https://www.aspirion.com/event/hfma-ga-2025-spring-institute/
LOCATION:The Hotel at Avalon\, Alpharetta\, GA\, United States
ATTACH;FMTTYPE=image/jpeg:https://www.aspirion.com/wp-content/uploads/2025/02/thaa-header.jpg
END:VEVENT
BEGIN:VEVENT
DTSTART;VALUE=DATE:20250518
DTEND;VALUE=DATE:20250521
DTSTAMP:20260419T115832
CREATED:20250203T182022Z
LAST-MODIFIED:20250203T182022Z
UID:10223-1747526400-1747785599@www.aspirion.com
SUMMARY:HFMA Texas State Conference
DESCRIPTION:
URL:https://www.aspirion.com/event/hfma-texas-state-conference/
LOCATION:NV
ATTACH;FMTTYPE=image/png:https://www.aspirion.com/wp-content/uploads/2025/02/image-68.png
END:VEVENT
BEGIN:VEVENT
DTSTART;VALUE=DATE:20250516
DTEND;VALUE=DATE:20250517
DTSTAMP:20260419T115832
CREATED:20250203T170824Z
LAST-MODIFIED:20250203T170824Z
UID:10162-1747353600-1747439999@www.aspirion.com
SUMMARY:Maryland/DC HFMA Orioles vs. Nats Game Networking Event
DESCRIPTION:
URL:https://www.aspirion.com/event/maryland-dc-hfma-orioles-vs-nats-game-networking-event/
LOCATION:Orioles Park at Camden Yards\, Baltimore\, MD\, United States
ATTACH;FMTTYPE=image/jpeg:https://www.aspirion.com/wp-content/uploads/2025/02/bivu8ka3et1ska3m8rxb-scaled.jpg
END:VEVENT
BEGIN:VEVENT
DTSTART;VALUE=DATE:20250515
DTEND;VALUE=DATE:20250517
DTSTAMP:20260419T115832
CREATED:20250203T170533Z
LAST-MODIFIED:20250203T170533Z
UID:10159-1747267200-1747439999@www.aspirion.com
SUMMARY:HFMA Colorado Spring Symposium
DESCRIPTION:
URL:https://www.aspirion.com/event/hfma-colorado-spring-symposium-2/
LOCATION:The Inverness Denver\, a Hilton Golf & Spa Resort\, Englewood\, CO\, United States
ATTACH;FMTTYPE=image/jpeg:https://www.aspirion.com/wp-content/uploads/2025/02/exterior-4.jpg
END:VEVENT
BEGIN:VEVENT
DTSTART;VALUE=DATE:20250515
DTEND;VALUE=DATE:20250516
DTSTAMP:20260419T115832
CREATED:20250127T185144Z
LAST-MODIFIED:20250127T185404Z
UID:10141-1747267200-1747353599@www.aspirion.com
SUMMARY:HFMA Metro Philadelphia: 10th Annual Women in Health Care Leadership
DESCRIPTION:
URL:https://www.aspirion.com/event/hfma-metro-philadelphia-10th-annual-women-in-health-care-leadership/
LOCATION:Doubletree Philadelphia\, Philadelphia\, PA\, United States
ATTACH;FMTTYPE=image/jpeg:https://www.aspirion.com/wp-content/uploads/2025/01/doubletree-entrance-600.jpg
END:VEVENT
BEGIN:VEVENT
DTSTART;VALUE=DATE:20250515
DTEND;VALUE=DATE:20250516
DTSTAMP:20260419T115832
CREATED:20250127T184815Z
LAST-MODIFIED:20250127T184815Z
UID:10139-1747267200-1747353599@www.aspirion.com
SUMMARY:HFMA Central PA Spring Meeting
DESCRIPTION:
URL:https://www.aspirion.com/event/hfma-central-pa-spring-meeting/
LOCATION:Hollywood Casino at Penn National Race Course\, Grantville\, PA\, United States
ATTACH;FMTTYPE=image/png:https://www.aspirion.com/wp-content/uploads/2025/01/37cdb5f2-e6de-49b3-bfba-c0f948ec5341-jumbo21x9_thumb_57403.png
END:VEVENT
BEGIN:VEVENT
DTSTART;VALUE=DATE:20250514
DTEND;VALUE=DATE:20250515
DTSTAMP:20260419T115832
CREATED:20250127T184505Z
LAST-MODIFIED:20250127T184505Z
UID:10136-1747180800-1747267199@www.aspirion.com
SUMMARY:HFMA CO: Spring Golf Tournament
DESCRIPTION:
URL:https://www.aspirion.com/event/hfma-co-spring-golf-tournament/
LOCATION:Arrowhead Golf Club\, Littleton\, CO\, United States
ATTACH;FMTTYPE=image/jpeg:https://www.aspirion.com/wp-content/uploads/2025/01/Arrowhead-Golf-Club.jpg
END:VEVENT
BEGIN:VEVENT
DTSTART;VALUE=DATE:20250511
DTEND;VALUE=DATE:20250515
DTSTAMP:20260419T115832
CREATED:20250127T184144Z
LAST-MODIFIED:20250127T184144Z
UID:10133-1746921600-1747267199@www.aspirion.com
SUMMARY:HFMA FL: 2025 Spring Conference & Annual Meeting
DESCRIPTION:
URL:https://www.aspirion.com/event/hfma-fl-2025-spring-conference-annual-meeting/
LOCATION:Wyndham Grand Beach Resort\, Clearwater\, FL\, United States
ATTACH;FMTTYPE=image/jpeg:https://www.aspirion.com/wp-content/uploads/2025/01/Wyndham-Grand-Beach-Resort.jpg
END:VEVENT
BEGIN:VEVENT
DTSTART;VALUE=DATE:20250510
DTEND;VALUE=DATE:20250511
DTSTAMP:20260419T115832
CREATED:20250127T183903Z
LAST-MODIFIED:20250127T183903Z
UID:10131-1746835200-1746921599@www.aspirion.com
SUMMARY:HFMA NoCA: Women's Conference
DESCRIPTION:
URL:https://www.aspirion.com/event/hfma-noca-womens-conference/
LOCATION:The Club at Castlewood Country Club\, Pleasanton\, CA\, United States
ATTACH;FMTTYPE=image/jpeg:https://www.aspirion.com/wp-content/uploads/2025/01/2022-01-28.jpg
END:VEVENT
BEGIN:VEVENT
DTSTART;VALUE=DATE:20250508
DTEND;VALUE=DATE:20250509
DTSTAMP:20260419T115832
CREATED:20250127T183414Z
LAST-MODIFIED:20250127T183414Z
UID:10128-1746662400-1746748799@www.aspirion.com
SUMMARY:HFMA NJ Annual Golf Outing
DESCRIPTION:
URL:https://www.aspirion.com/event/hfma-nj-annual-golf-outing/
LOCATION:Mercer Oaks East Golf Course\, West Windsor Township\, NJ\, United States
ATTACH;FMTTYPE=image/jpeg:https://www.aspirion.com/wp-content/uploads/2025/01/golf-course.jpg
END:VEVENT
BEGIN:VEVENT
DTSTART;VALUE=DATE:20250506
DTEND;VALUE=DATE:20250509
DTSTAMP:20260419T115832
CREATED:20250127T182340Z
LAST-MODIFIED:20250127T182340Z
UID:10127-1746489600-1746748799@www.aspirion.com
SUMMARY:HFMA MT: Spring Conference
DESCRIPTION:
URL:https://www.aspirion.com/event/hfma-mt-spring-conference/
LOCATION:NV
END:VEVENT
BEGIN:VEVENT
DTSTART;VALUE=DATE:20250423
DTEND;VALUE=DATE:20250424
DTSTAMP:20260419T115832
CREATED:20250127T182229Z
LAST-MODIFIED:20250127T182229Z
UID:10124-1745366400-1745452799@www.aspirion.com
SUMMARY:HFMA MI Great Lakes: Women in Leadership Conference
DESCRIPTION:
URL:https://www.aspirion.com/event/hfma-mi-great-lakes-women-in-leadership-conference/
LOCATION:Sunnybrook Country Club\, Grandville\, MI\, United States
ATTACH;FMTTYPE=image/jpeg:https://www.aspirion.com/wp-content/uploads/2025/01/18_9_1_Panorama_final3-scaled.jpg
END:VEVENT
END:VCALENDAR