BEGIN:VCALENDAR
VERSION:2.0
PRODID:-//Aspirion - ECPv6.15.17.1//NONSGML v1.0//EN
CALSCALE:GREGORIAN
METHOD:PUBLISH
X-ORIGINAL-URL:https://www.aspirion.com
X-WR-CALDESC:Events for Aspirion
REFRESH-INTERVAL;VALUE=DURATION:PT1H
X-Robots-Tag:noindex
X-PUBLISHED-TTL:PT1H
BEGIN:VTIMEZONE
TZID:America/New_York
BEGIN:DAYLIGHT
TZOFFSETFROM:-0500
TZOFFSETTO:-0400
TZNAME:EDT
DTSTART:20250309T070000
END:DAYLIGHT
BEGIN:STANDARD
TZOFFSETFROM:-0400
TZOFFSETTO:-0500
TZNAME:EST
DTSTART:20251102T060000
END:STANDARD
BEGIN:DAYLIGHT
TZOFFSETFROM:-0500
TZOFFSETTO:-0400
TZNAME:EDT
DTSTART:20260308T070000
END:DAYLIGHT
BEGIN:STANDARD
TZOFFSETFROM:-0400
TZOFFSETTO:-0500
TZNAME:EST
DTSTART:20261101T060000
END:STANDARD
BEGIN:DAYLIGHT
TZOFFSETFROM:-0500
TZOFFSETTO:-0400
TZNAME:EDT
DTSTART:20270314T070000
END:DAYLIGHT
BEGIN:STANDARD
TZOFFSETFROM:-0400
TZOFFSETTO:-0500
TZNAME:EST
DTSTART:20271107T060000
END:STANDARD
END:VTIMEZONE
BEGIN:VTIMEZONE
TZID:America/Los_Angeles
BEGIN:DAYLIGHT
TZOFFSETFROM:-0800
TZOFFSETTO:-0700
TZNAME:PDT
DTSTART:20250309T100000
END:DAYLIGHT
BEGIN:STANDARD
TZOFFSETFROM:-0700
TZOFFSETTO:-0800
TZNAME:PST
DTSTART:20251102T090000
END:STANDARD
BEGIN:DAYLIGHT
TZOFFSETFROM:-0800
TZOFFSETTO:-0700
TZNAME:PDT
DTSTART:20260308T100000
END:DAYLIGHT
BEGIN:STANDARD
TZOFFSETFROM:-0700
TZOFFSETTO:-0800
TZNAME:PST
DTSTART:20261101T090000
END:STANDARD
BEGIN:DAYLIGHT
TZOFFSETFROM:-0800
TZOFFSETTO:-0700
TZNAME:PDT
DTSTART:20270314T100000
END:DAYLIGHT
BEGIN:STANDARD
TZOFFSETFROM:-0700
TZOFFSETTO:-0800
TZNAME:PST
DTSTART:20271107T090000
END:STANDARD
END:VTIMEZONE
BEGIN:VTIMEZONE
TZID:America/Chicago
BEGIN:DAYLIGHT
TZOFFSETFROM:-0600
TZOFFSETTO:-0500
TZNAME:CDT
DTSTART:20250309T080000
END:DAYLIGHT
BEGIN:STANDARD
TZOFFSETFROM:-0500
TZOFFSETTO:-0600
TZNAME:CST
DTSTART:20251102T070000
END:STANDARD
BEGIN:DAYLIGHT
TZOFFSETFROM:-0600
TZOFFSETTO:-0500
TZNAME:CDT
DTSTART:20260308T080000
END:DAYLIGHT
BEGIN:STANDARD
TZOFFSETFROM:-0500
TZOFFSETTO:-0600
TZNAME:CST
DTSTART:20261101T070000
END:STANDARD
BEGIN:DAYLIGHT
TZOFFSETFROM:-0600
TZOFFSETTO:-0500
TZNAME:CDT
DTSTART:20270314T080000
END:DAYLIGHT
BEGIN:STANDARD
TZOFFSETFROM:-0500
TZOFFSETTO:-0600
TZNAME:CST
DTSTART:20271107T070000
END:STANDARD
END:VTIMEZONE
BEGIN:VEVENT
DTSTART;VALUE=DATE:20260204
DTEND;VALUE=DATE:20260207
DTSTAMP:20260421T071433
CREATED:20251205T195607Z
LAST-MODIFIED:20251205T195607Z
UID:11540-1770163200-1770422399@www.aspirion.com
SUMMARY:HealthLeaders Revenue Cycle Exchange
DESCRIPTION:
URL:https://www.aspirion.com/event/healthleaders-revenue-cycle-exchange/
LOCATION:Art Ovation Hotel\, 1255 N Palm Ave\, Sarasota\, FL\, 34236\, United States
ATTACH;FMTTYPE=image/png:https://www.aspirion.com/wp-content/uploads/2025/12/Art-Ovation-Hotel.png
END:VEVENT
BEGIN:VEVENT
DTSTART;VALUE=DATE:20260204
DTEND;VALUE=DATE:20260207
DTSTAMP:20260421T071433
CREATED:20251205T200721Z
LAST-MODIFIED:20251205T200721Z
UID:11543-1770163200-1770422399@www.aspirion.com
SUMMARY:North Carolina HFMA 2026 Annual Conference
DESCRIPTION:
URL:https://www.aspirion.com/event/north-carolina-hfma-2026-annual-conference/
LOCATION:The Carolina Hotel\, Pinehurst\, NC
ATTACH;FMTTYPE=image/png:https://www.aspirion.com/wp-content/uploads/2025/12/The-Carolina-Hotel-Pinehurst-NC-1.png
END:VEVENT
BEGIN:VEVENT
DTSTART;VALUE=DATE:20260212
DTEND;VALUE=DATE:20260214
DTSTAMP:20260421T071433
CREATED:20260212T155402Z
LAST-MODIFIED:20260212T155402Z
UID:11772-1770854400-1771027199@www.aspirion.com
SUMMARY:Indiana Pressler Memorial HFMA 2026 Annual Conference and Legislative Update
DESCRIPTION:
URL:https://www.aspirion.com/event/indiana-pressler-memorial-hfma-2026-annual-conference-and-legislative-update/
LOCATION:Marriott Indianapolis North\, Indianapolis\, IN\, United States
ATTACH;FMTTYPE=image/png:https://www.aspirion.com/wp-content/uploads/2026/02/Marriott-Indianapolis-North-Indianapolis-Indiana.png
END:VEVENT
BEGIN:VEVENT
DTSTART;TZID=America/Los_Angeles:20260212T073000
DTEND;TZID=America/Los_Angeles:20260212T183000
DTSTAMP:20260421T071433
CREATED:20260212T154614Z
LAST-MODIFIED:20260212T154614Z
UID:11769-1770881400-1770921000@www.aspirion.com
SUMMARY:Oregon HFMA 2026 Winter Workshop
DESCRIPTION:
URL:https://www.aspirion.com/event/oregon-hfma-2026-winter-workshop/
LOCATION:Evergreen Aviation and Space Museum\, 500 NE Captain Michael King Smith Way\, McMinnville\, OR\, 97128\, United States
ATTACH;FMTTYPE=image/png:https://www.aspirion.com/wp-content/uploads/2026/02/Evergreen-Aviation-Space-Museum-McMinnville-Oregon.png
END:VEVENT
BEGIN:VEVENT
DTSTART;VALUE=DATE:20260217
DTEND;VALUE=DATE:20260219
DTSTAMP:20260421T071433
CREATED:20251205T221841Z
LAST-MODIFIED:20251205T221841Z
UID:11547-1771286400-1771459199@www.aspirion.com
SUMMARY:Minnesota HFMA 2026 Winter Conference
DESCRIPTION:
URL:https://www.aspirion.com/event/minnesota-hfma-2026-winter-conference/
LOCATION:Hilton Regency Minneapolis-St. Paul Airport\, 3800 American Blvd E\, Bloomington\, MN\, 55425\, United States
ATTACH;FMTTYPE=image/png:https://www.aspirion.com/wp-content/uploads/2025/12/Hilton-Minneapolis-St.-Paul-Airport.png
END:VEVENT
BEGIN:VEVENT
DTSTART;VALUE=DATE:20260217
DTEND;VALUE=DATE:20260221
DTSTAMP:20260421T071433
CREATED:20251205T220837Z
LAST-MODIFIED:20251205T220837Z
UID:11545-1771286400-1771631999@www.aspirion.com
SUMMARY:HFMA Region 5 South Eastern Summit 2026
DESCRIPTION:
URL:https://www.aspirion.com/event/hfma-region-5-south-eastern-summit-2026/
LOCATION:Hyatt Regency Greenville\, Greenville\, SC\, United States
ATTACH;FMTTYPE=image/png:https://www.aspirion.com/wp-content/uploads/2025/12/Hyatt-Regency-Greenville.png
END:VEVENT
BEGIN:VEVENT
DTSTART;TZID=America/New_York:20260219T070000
DTEND;TZID=America/New_York:20260220T120000
DTSTAMP:20260421T071433
CREATED:20260107T212611Z
LAST-MODIFIED:20260107T212611Z
UID:11608-1771484400-1771588800@www.aspirion.com
SUMMARY:HFMA Lone Star Winter Conference 2026
DESCRIPTION:
URL:https://www.aspirion.com/event/hfma-lone-star-winter-conference-2026/
LOCATION:Westin DFW Airport Hotel\, 4545 W John Carpenter Fwy\, Irving\, TX\, 75063\, United States
ATTACH;FMTTYPE=image/png:https://www.aspirion.com/wp-content/uploads/2026/01/The-Westin-DFW-Airport-Hotel.png
END:VEVENT
BEGIN:VEVENT
DTSTART;VALUE=DATE:20260224
DTEND;VALUE=DATE:20260227
DTSTAMP:20260421T071433
CREATED:20260220T190946Z
LAST-MODIFIED:20260220T190946Z
UID:11785-1771891200-1772150399@www.aspirion.com
SUMMARY:West Virginia HFMA 2026 Chapter Symposium
DESCRIPTION:
URL:https://www.aspirion.com/event/west-virginia-hfma-2026-chapter-symposium/
LOCATION:The Greenbrier Resort\, Greenbrier\, WV\, United States
ATTACH;FMTTYPE=image/png:https://www.aspirion.com/wp-content/uploads/2026/02/Greenbriar-Resort-White-Sulphur-Springs-WV.png
END:VEVENT
BEGIN:VEVENT
DTSTART;TZID=America/Chicago:20260226T073000
DTEND;TZID=America/Chicago:20260226T180000
DTSTAMP:20260421T071433
CREATED:20251205T222558Z
LAST-MODIFIED:20251205T222558Z
UID:11550-1772091000-1772128800@www.aspirion.com
SUMMARY:First Illinois HFMA & Chicago Health Executive Forum's Provider & Payer Symposium 2026
DESCRIPTION:
URL:https://www.aspirion.com/event/first-illinois-hfma-chicago-health-executive-forums-provider-payer-symposium-2026/
LOCATION:University Club of Chicago\, Chicago\, IL\, United States
ATTACH;FMTTYPE=image/png:https://www.aspirion.com/wp-content/uploads/2025/12/University-Club-of-Chicago.png
END:VEVENT
BEGIN:VEVENT
DTSTART;TZID=America/New_York:20260226T073000
DTEND;TZID=America/New_York:20260226T180000
DTSTAMP:20260421T071433
CREATED:20260220T191728Z
LAST-MODIFIED:20260220T191831Z
UID:11787-1772091000-1772128800@www.aspirion.com
SUMMARY:Metropolitan Philadelphia HFMA 2026 Reimbursement Seminar
DESCRIPTION:
URL:https://www.aspirion.com/event/metropolitan-philadelphia-hfma-2026-reimbursement-seminar/
LOCATION:KPMG Philadelphia\, Philadelphia\, PA\, United States
ATTACH;FMTTYPE=image/png:https://www.aspirion.com/wp-content/uploads/2026/02/KPMG-Philadelphia.png
END:VEVENT
END:VCALENDAR